BEGIN:VCALENDAR
VERSION:2.0
PRODID:-//The Community Center - ECPv6.15.20//NONSGML v1.0//EN
CALSCALE:GREGORIAN
METHOD:PUBLISH
X-WR-CALNAME:The Community Center
X-ORIGINAL-URL:https://tccidaho.org
X-WR-CALDESC:Events for The Community Center
REFRESH-INTERVAL;VALUE=DURATION:PT1H
X-Robots-Tag:noindex
X-PUBLISHED-TTL:PT1H
BEGIN:VTIMEZONE
TZID:America/Boise
BEGIN:DAYLIGHT
TZOFFSETFROM:-0700
TZOFFSETTO:-0600
TZNAME:MDT
DTSTART:20250309T090000
END:DAYLIGHT
BEGIN:STANDARD
TZOFFSETFROM:-0600
TZOFFSETTO:-0700
TZNAME:MST
DTSTART:20251102T080000
END:STANDARD
BEGIN:DAYLIGHT
TZOFFSETFROM:-0700
TZOFFSETTO:-0600
TZNAME:MDT
DTSTART:20260308T090000
END:DAYLIGHT
BEGIN:STANDARD
TZOFFSETFROM:-0600
TZOFFSETTO:-0700
TZNAME:MST
DTSTART:20261101T080000
END:STANDARD
BEGIN:DAYLIGHT
TZOFFSETFROM:-0700
TZOFFSETTO:-0600
TZNAME:MDT
DTSTART:20270314T090000
END:DAYLIGHT
BEGIN:STANDARD
TZOFFSETFROM:-0600
TZOFFSETTO:-0700
TZNAME:MST
DTSTART:20271107T080000
END:STANDARD
END:VTIMEZONE
BEGIN:VEVENT
DTSTART;TZID=America/Boise:20260428T190000
DTEND;TZID=America/Boise:20260428T200000
DTSTAMP:20260425T095336
CREATED:20260228T222356Z
LAST-MODIFIED:20260404T034407Z
UID:10002174-1777402800-1777406400@tccidaho.org
SUMMARY:LGBTQ AA Meeting "A Vision For You"
DESCRIPTION:Learn more at https://idahoarea18aa.org/meetings/?meeting=a-vision-for-you
URL:https://tccidaho.org/calendar/lgbtq-aa-meeting-a-vision-for-you-284/
LOCATION:Wright Congregational United Church of Christ\, 5001 W Franklin Rd\, Boise\, ID\, United States
CATEGORIES:External LGBTQIA+ Events
ATTACH;FMTTYPE=image/jpeg:https://tccidaho.org/wp-content/uploads/2025/01/external-event.jpg
GEO:43.602647;-116.243483
X-APPLE-STRUCTURED-LOCATION;VALUE=URI;X-ADDRESS=Wright Congregational United Church of Christ 5001 W Franklin Rd Boise ID United States;X-APPLE-RADIUS=500;X-TITLE=5001 W Franklin Rd:geo:-116.243483,43.602647
END:VEVENT
BEGIN:VEVENT
DTSTART;TZID=America/Boise:20260430T183000
DTEND;TZID=America/Boise:20260430T200000
DTSTAMP:20260425T095336
CREATED:20260302T222358Z
LAST-MODIFIED:20260404T034440Z
UID:10002177-1777573800-1777579200@tccidaho.org
SUMMARY:Clutch - LGBTQ Youth Group
DESCRIPTION:A safe space in the community for LGBTQ+ youth \nIf you are looking for a safe space to be yourself and LGBTQ+ describes you – come hang out at Clutch every Thursday from 6:30pm to 8pm.\nAges 14-20 welcome \nNo pressure\, no judgement\, just you. \nAcross from Flying M Coffee Garage \nclutchnampa.org\nclutchnampa@gmail.com
URL:https://tccidaho.org/calendar/clutch-lgbtq-youth-group-58/
LOCATION:120 14th Ave S\, Nampa\, ID\, United States
CATEGORIES:External LGBTQIA+ Events
ATTACH;FMTTYPE=image/jpeg:https://tccidaho.org/wp-content/uploads/2025/01/external-event.jpg
GEO:43.595567;-116.61063
END:VEVENT
BEGIN:VEVENT
DTSTART;TZID=America/Boise:20260430T190000
DTEND;TZID=America/Boise:20260430T200000
DTSTAMP:20260425T095336
CREATED:20260302T222400Z
LAST-MODIFIED:20260404T034757Z
UID:10002178-1777575600-1777579200@tccidaho.org
SUMMARY:LGBTQ AA Meeting "A Vision For You"
DESCRIPTION:Learn more at https://idahoarea18aa.org/meetings/?meeting=a-vision-for-you
URL:https://tccidaho.org/calendar/lgbtq-aa-meeting-a-vision-for-you-285/
LOCATION:Wright Congregational United Church of Christ\, 5001 W Franklin Rd\, Boise\, ID\, United States
CATEGORIES:External LGBTQIA+ Events
ATTACH;FMTTYPE=image/jpeg:https://tccidaho.org/wp-content/uploads/2025/01/external-event.jpg
GEO:43.602647;-116.243483
X-APPLE-STRUCTURED-LOCATION;VALUE=URI;X-ADDRESS=Wright Congregational United Church of Christ 5001 W Franklin Rd Boise ID United States;X-APPLE-RADIUS=500;X-TITLE=5001 W Franklin Rd:geo:-116.243483,43.602647
END:VEVENT
BEGIN:VEVENT
DTSTART;TZID=America/Boise:20260503T190000
DTEND;TZID=America/Boise:20260503T200000
DTSTAMP:20260425T095336
CREATED:20260305T223848Z
LAST-MODIFIED:20260305T223848Z
UID:10002184-1777834800-1777838400@tccidaho.org
SUMMARY:LGBTQ AA Meeting "A Vision For You"
DESCRIPTION:Learn more at https://idahoarea18aa.org/meetings/?meeting=a-vision-for-you
URL:https://tccidaho.org/calendar/lgbtq-aa-meeting-a-vision-for-you-286/
LOCATION:Wright Congregational United Church of Christ\, 5001 W Franklin Rd\, Boise\, ID\, United States
CATEGORIES:External LGBTQIA+ Events
GEO:43.602647;-116.243483
X-APPLE-STRUCTURED-LOCATION;VALUE=URI;X-ADDRESS=Wright Congregational United Church of Christ 5001 W Franklin Rd Boise ID United States;X-APPLE-RADIUS=500;X-TITLE=5001 W Franklin Rd:geo:-116.243483,43.602647
END:VEVENT
BEGIN:VEVENT
DTSTART;TZID=America/Boise:20260505T140000
DTEND;TZID=America/Boise:20260505T150000
DTSTAMP:20260425T095336
CREATED:20260306T223950Z
LAST-MODIFIED:20260306T223950Z
UID:10002186-1777989600-1777993200@tccidaho.org
SUMMARY:QSA Teen Group
DESCRIPTION:Cherry Lane  Teen SpaceEvery Tuesday2:00 pm – 3:00 pmProgram Type: Find Support\, Join a Club or Group \nAge Group: Teens (grades 7-12)Welcome to our Queer-Straight Alliance (QSA)! If you’re 13-18 years old and you’re a part of\, an ally of\, or curious about the LGBT+ community\, you’re invited! We meet every Tuesday at 2:00 pm.Contact InfoName: RachelEmail: rerskine@mld.orgPhone Number: (208) 888-4451
URL:https://tccidaho.org/calendar/qsa-teen-group-67/
LOCATION:Meridian Library District\, 1326 W Cherry Ln\, Meridian\, ID\, United States
CATEGORIES:External LGBTQIA+ Events
GEO:43.619148;-116.410315
X-APPLE-STRUCTURED-LOCATION;VALUE=URI;X-ADDRESS=Meridian Library District 1326 W Cherry Ln Meridian ID United States;X-APPLE-RADIUS=500;X-TITLE=1326 W Cherry Ln:geo:-116.410315,43.619148
END:VEVENT
BEGIN:VEVENT
DTSTART;TZID=America/Boise:20260505T190000
DTEND;TZID=America/Boise:20260505T200000
DTSTAMP:20260425T095336
CREATED:20260307T225356Z
LAST-MODIFIED:20260307T225356Z
UID:10002187-1778007600-1778011200@tccidaho.org
SUMMARY:LGBTQ AA Meeting "A Vision For You"
DESCRIPTION:Learn more at https://idahoarea18aa.org/meetings/?meeting=a-vision-for-you
URL:https://tccidaho.org/calendar/lgbtq-aa-meeting-a-vision-for-you-287/
LOCATION:Wright Congregational United Church of Christ\, 5001 W Franklin Rd\, Boise\, ID\, United States
CATEGORIES:External LGBTQIA+ Events
GEO:43.602647;-116.243483
X-APPLE-STRUCTURED-LOCATION;VALUE=URI;X-ADDRESS=Wright Congregational United Church of Christ 5001 W Franklin Rd Boise ID United States;X-APPLE-RADIUS=500;X-TITLE=5001 W Franklin Rd:geo:-116.243483,43.602647
END:VEVENT
BEGIN:VEVENT
DTSTART;TZID=America/Boise:20260507T183000
DTEND;TZID=America/Boise:20260507T200000
DTSTAMP:20260425T095336
CREATED:20260309T230904Z
LAST-MODIFIED:20260309T230904Z
UID:10002191-1778178600-1778184000@tccidaho.org
SUMMARY:Clutch - LGBTQ Youth Group
DESCRIPTION:A safe space in the community for LGBTQ+ youth \nIf you are looking for a safe space to be yourself and LGBTQ+ describes you – come hang out at Clutch every Thursday from 6:30pm to 8pm. Ages 14-20 welcome \nNo pressure\, no judgement\, just you. \nAcross from Flying M Coffee Garage \nclutchnampa.orgclutchnampa@gmail.com
URL:https://tccidaho.org/calendar/clutch-lgbtq-youth-group-59/
LOCATION:120 14th Ave S\, Nampa\, ID\, United States
CATEGORIES:External LGBTQIA+ Events
GEO:43.595567;-116.61063
END:VEVENT
BEGIN:VEVENT
DTSTART;TZID=America/Boise:20260507T190000
DTEND;TZID=America/Boise:20260507T200000
DTSTAMP:20260425T095336
CREATED:20260309T230904Z
LAST-MODIFIED:20260309T230904Z
UID:10002190-1778180400-1778184000@tccidaho.org
SUMMARY:LGBTQ AA Meeting "A Vision For You"
DESCRIPTION:Learn more at https://idahoarea18aa.org/meetings/?meeting=a-vision-for-you
URL:https://tccidaho.org/calendar/lgbtq-aa-meeting-a-vision-for-you-288/
LOCATION:Wright Congregational United Church of Christ\, 5001 W Franklin Rd\, Boise\, ID\, United States
CATEGORIES:External LGBTQIA+ Events
GEO:43.602647;-116.243483
X-APPLE-STRUCTURED-LOCATION;VALUE=URI;X-ADDRESS=Wright Congregational United Church of Christ 5001 W Franklin Rd Boise ID United States;X-APPLE-RADIUS=500;X-TITLE=5001 W Franklin Rd:geo:-116.243483,43.602647
END:VEVENT
BEGIN:VEVENT
DTSTART;TZID=America/Boise:20260510T190000
DTEND;TZID=America/Boise:20260510T200000
DTSTAMP:20260425T095336
CREATED:20260312T234211Z
LAST-MODIFIED:20260312T234211Z
UID:10002196-1778439600-1778443200@tccidaho.org
SUMMARY:LGBTQ AA Meeting "A Vision For You"
DESCRIPTION:Learn more at https://idahoarea18aa.org/meetings/?meeting=a-vision-for-you
URL:https://tccidaho.org/calendar/lgbtq-aa-meeting-a-vision-for-you-289/
LOCATION:Wright Congregational United Church of Christ\, 5001 W Franklin Rd\, Boise\, ID\, United States
CATEGORIES:External LGBTQIA+ Events
GEO:43.602647;-116.243483
X-APPLE-STRUCTURED-LOCATION;VALUE=URI;X-ADDRESS=Wright Congregational United Church of Christ 5001 W Franklin Rd Boise ID United States;X-APPLE-RADIUS=500;X-TITLE=5001 W Franklin Rd:geo:-116.243483,43.602647
END:VEVENT
BEGIN:VEVENT
DTSTART;TZID=America/Boise:20260512T140000
DTEND;TZID=America/Boise:20260512T150000
DTSTAMP:20260425T095336
CREATED:20260313T233911Z
LAST-MODIFIED:20260313T233911Z
UID:10002199-1778594400-1778598000@tccidaho.org
SUMMARY:QSA Teen Group
DESCRIPTION:Cherry Lane  Teen SpaceEvery Tuesday2:00 pm – 3:00 pmProgram Type: Find Support\, Join a Club or Group \nAge Group: Teens (grades 7-12)Welcome to our Queer-Straight Alliance (QSA)! If you’re 13-18 years old and you’re a part of\, an ally of\, or curious about the LGBT+ community\, you’re invited! We meet every Tuesday at 2:00 pm.Contact InfoName: RachelEmail: rerskine@mld.orgPhone Number: (208) 888-4451
URL:https://tccidaho.org/calendar/qsa-teen-group-68/
LOCATION:Meridian Library District\, 1326 W Cherry Ln\, Meridian\, ID\, United States
CATEGORIES:External LGBTQIA+ Events
GEO:43.619148;-116.410315
X-APPLE-STRUCTURED-LOCATION;VALUE=URI;X-ADDRESS=Meridian Library District 1326 W Cherry Ln Meridian ID United States;X-APPLE-RADIUS=500;X-TITLE=1326 W Cherry Ln:geo:-116.410315,43.619148
END:VEVENT
BEGIN:VEVENT
DTSTART;TZID=America/Boise:20260512T190000
DTEND;TZID=America/Boise:20260512T200000
DTSTAMP:20260425T095336
CREATED:20260314T233914Z
LAST-MODIFIED:20260314T233914Z
UID:10002200-1778612400-1778616000@tccidaho.org
SUMMARY:LGBTQ AA Meeting "A Vision For You"
DESCRIPTION:Learn more at https://idahoarea18aa.org/meetings/?meeting=a-vision-for-you
URL:https://tccidaho.org/calendar/lgbtq-aa-meeting-a-vision-for-you-290/
LOCATION:Wright Congregational United Church of Christ\, 5001 W Franklin Rd\, Boise\, ID\, United States
CATEGORIES:External LGBTQIA+ Events
GEO:43.602647;-116.243483
X-APPLE-STRUCTURED-LOCATION;VALUE=URI;X-ADDRESS=Wright Congregational United Church of Christ 5001 W Franklin Rd Boise ID United States;X-APPLE-RADIUS=500;X-TITLE=5001 W Franklin Rd:geo:-116.243483,43.602647
END:VEVENT
BEGIN:VEVENT
DTSTART;TZID=America/Boise:20260514T183000
DTEND;TZID=America/Boise:20260514T200000
DTSTAMP:20260425T095336
CREATED:20260317T235447Z
LAST-MODIFIED:20260317T235447Z
UID:10002205-1778783400-1778788800@tccidaho.org
SUMMARY:Clutch - LGBTQ Youth Group
DESCRIPTION:A safe space in the community for LGBTQ+ youth \nIf you are looking for a safe space to be yourself and LGBTQ+ describes you – come hang out at Clutch every Thursday from 6:30pm to 8pm. Ages 14-20 welcome \nNo pressure\, no judgement\, just you. \nAcross from Flying M Coffee Garage \nclutchnampa.orgclutchnampa@gmail.com
URL:https://tccidaho.org/calendar/clutch-lgbtq-youth-group-60/
LOCATION:120 14th Ave S\, Nampa\, ID\, United States
CATEGORIES:External LGBTQIA+ Events
GEO:43.595567;-116.61063
END:VEVENT
BEGIN:VEVENT
DTSTART;TZID=America/Boise:20260514T190000
DTEND;TZID=America/Boise:20260514T200000
DTSTAMP:20260425T095336
CREATED:20260317T235448Z
LAST-MODIFIED:20260317T235448Z
UID:10002206-1778785200-1778788800@tccidaho.org
SUMMARY:LGBTQ AA Meeting "A Vision For You"
DESCRIPTION:Learn more at https://idahoarea18aa.org/meetings/?meeting=a-vision-for-you
URL:https://tccidaho.org/calendar/lgbtq-aa-meeting-a-vision-for-you-291/
LOCATION:Wright Congregational United Church of Christ\, 5001 W Franklin Rd\, Boise\, ID\, United States
CATEGORIES:External LGBTQIA+ Events
GEO:43.602647;-116.243483
X-APPLE-STRUCTURED-LOCATION;VALUE=URI;X-ADDRESS=Wright Congregational United Church of Christ 5001 W Franklin Rd Boise ID United States;X-APPLE-RADIUS=500;X-TITLE=5001 W Franklin Rd:geo:-116.243483,43.602647
END:VEVENT
BEGIN:VEVENT
DTSTART;TZID=America/Boise:20260517T190000
DTEND;TZID=America/Boise:20260517T200000
DTSTAMP:20260425T095336
CREATED:20260319T235354Z
LAST-MODIFIED:20260319T235354Z
UID:10002211-1779044400-1779048000@tccidaho.org
SUMMARY:LGBTQ AA Meeting "A Vision For You"
DESCRIPTION:Learn more at https://idahoarea18aa.org/meetings/?meeting=a-vision-for-you
URL:https://tccidaho.org/calendar/lgbtq-aa-meeting-a-vision-for-you-292/
LOCATION:Wright Congregational United Church of Christ\, 5001 W Franklin Rd\, Boise\, ID\, United States
CATEGORIES:External LGBTQIA+ Events
GEO:43.602647;-116.243483
X-APPLE-STRUCTURED-LOCATION;VALUE=URI;X-ADDRESS=Wright Congregational United Church of Christ 5001 W Franklin Rd Boise ID United States;X-APPLE-RADIUS=500;X-TITLE=5001 W Franklin Rd:geo:-116.243483,43.602647
END:VEVENT
BEGIN:VEVENT
DTSTART;TZID=America/Boise:20260519T140000
DTEND;TZID=America/Boise:20260519T150000
DTSTAMP:20260425T095336
CREATED:20260321T010851Z
LAST-MODIFIED:20260321T010851Z
UID:10002212-1779199200-1779202800@tccidaho.org
SUMMARY:QSA Teen Group
DESCRIPTION:Cherry Lane  Teen SpaceEvery Tuesday2:00 pm – 3:00 pmProgram Type: Find Support\, Join a Club or Group \nAge Group: Teens (grades 7-12)Welcome to our Queer-Straight Alliance (QSA)! If you’re 13-18 years old and you’re a part of\, an ally of\, or curious about the LGBT+ community\, you’re invited! We meet every Tuesday at 2:00 pm.Contact InfoName: RachelEmail: rerskine@mld.orgPhone Number: (208) 888-4451
URL:https://tccidaho.org/calendar/qsa-teen-group-69/
LOCATION:Meridian Library District\, 1326 W Cherry Ln\, Meridian\, ID\, United States
CATEGORIES:External LGBTQIA+ Events
GEO:43.619148;-116.410315
X-APPLE-STRUCTURED-LOCATION;VALUE=URI;X-ADDRESS=Meridian Library District 1326 W Cherry Ln Meridian ID United States;X-APPLE-RADIUS=500;X-TITLE=1326 W Cherry Ln:geo:-116.410315,43.619148
END:VEVENT
BEGIN:VEVENT
DTSTART;TZID=America/Boise:20260519T190000
DTEND;TZID=America/Boise:20260519T200000
DTSTAMP:20260425T095336
CREATED:20260321T010852Z
LAST-MODIFIED:20260321T010852Z
UID:10002213-1779217200-1779220800@tccidaho.org
SUMMARY:LGBTQ AA Meeting "A Vision For You"
DESCRIPTION:Learn more at https://idahoarea18aa.org/meetings/?meeting=a-vision-for-you
URL:https://tccidaho.org/calendar/lgbtq-aa-meeting-a-vision-for-you-293/
LOCATION:Wright Congregational United Church of Christ\, 5001 W Franklin Rd\, Boise\, ID\, United States
CATEGORIES:External LGBTQIA+ Events
GEO:43.602647;-116.243483
X-APPLE-STRUCTURED-LOCATION;VALUE=URI;X-ADDRESS=Wright Congregational United Church of Christ 5001 W Franklin Rd Boise ID United States;X-APPLE-RADIUS=500;X-TITLE=5001 W Franklin Rd:geo:-116.243483,43.602647
END:VEVENT
BEGIN:VEVENT
DTSTART;TZID=America/Boise:20260521T183000
DTEND;TZID=America/Boise:20260521T200000
DTSTAMP:20260425T095336
CREATED:20260323T000853Z
LAST-MODIFIED:20260323T000853Z
UID:10002215-1779388200-1779393600@tccidaho.org
SUMMARY:Clutch - LGBTQ Youth Group
DESCRIPTION:A safe space in the community for LGBTQ+ youth \nIf you are looking for a safe space to be yourself and LGBTQ+ describes you – come hang out at Clutch every Thursday from 6:30pm to 8pm. Ages 14-20 welcome \nNo pressure\, no judgement\, just you. \nAcross from Flying M Coffee Garage \nclutchnampa.orgclutchnampa@gmail.com
URL:https://tccidaho.org/calendar/clutch-lgbtq-youth-group-61/
LOCATION:120 14th Ave S\, Nampa\, ID\, United States
CATEGORIES:External LGBTQIA+ Events
GEO:43.595567;-116.61063
END:VEVENT
BEGIN:VEVENT
DTSTART;TZID=America/Boise:20260521T190000
DTEND;TZID=America/Boise:20260521T200000
DTSTAMP:20260425T095336
CREATED:20260323T000853Z
LAST-MODIFIED:20260323T000853Z
UID:10002214-1779390000-1779393600@tccidaho.org
SUMMARY:LGBTQ AA Meeting "A Vision For You"
DESCRIPTION:Learn more at https://idahoarea18aa.org/meetings/?meeting=a-vision-for-you
URL:https://tccidaho.org/calendar/lgbtq-aa-meeting-a-vision-for-you-294/
LOCATION:Wright Congregational United Church of Christ\, 5001 W Franklin Rd\, Boise\, ID\, United States
CATEGORIES:External LGBTQIA+ Events
GEO:43.602647;-116.243483
X-APPLE-STRUCTURED-LOCATION;VALUE=URI;X-ADDRESS=Wright Congregational United Church of Christ 5001 W Franklin Rd Boise ID United States;X-APPLE-RADIUS=500;X-TITLE=5001 W Franklin Rd:geo:-116.243483,43.602647
END:VEVENT
BEGIN:VEVENT
DTSTART;TZID=America/Boise:20260524T190000
DTEND;TZID=America/Boise:20260524T200000
DTSTAMP:20260425T095336
CREATED:20260401T151055Z
LAST-MODIFIED:20260401T151055Z
UID:10002228-1779649200-1779652800@tccidaho.org
SUMMARY:LGBTQ AA Meeting "A Vision For You"
DESCRIPTION:Learn more at https://idahoarea18aa.org/meetings/?meeting=a-vision-for-you
URL:https://tccidaho.org/calendar/lgbtq-aa-meeting-a-vision-for-you-295/
LOCATION:Wright Congregational United Church of Christ\, 5001 W Franklin Rd\, Boise\, ID\, United States
CATEGORIES:External LGBTQIA+ Events
GEO:43.602647;-116.243483
X-APPLE-STRUCTURED-LOCATION;VALUE=URI;X-ADDRESS=Wright Congregational United Church of Christ 5001 W Franklin Rd Boise ID United States;X-APPLE-RADIUS=500;X-TITLE=5001 W Franklin Rd:geo:-116.243483,43.602647
END:VEVENT
BEGIN:VEVENT
DTSTART;TZID=America/Boise:20260526T140000
DTEND;TZID=America/Boise:20260526T150000
DTSTAMP:20260425T095336
CREATED:20260401T151056Z
LAST-MODIFIED:20260401T151056Z
UID:10002229-1779804000-1779807600@tccidaho.org
SUMMARY:QSA Teen Group
DESCRIPTION:Cherry Lane  Teen SpaceEvery Tuesday2:00 pm – 3:00 pmProgram Type: Find Support\, Join a Club or Group \nAge Group: Teens (grades 7-12)Welcome to our Queer-Straight Alliance (QSA)! If you’re 13-18 years old and you’re a part of\, an ally of\, or curious about the LGBT+ community\, you’re invited! We meet every Tuesday at 2:00 pm.Contact InfoName: RachelEmail: rerskine@mld.orgPhone Number: (208) 888-4451
URL:https://tccidaho.org/calendar/qsa-teen-group-70/
LOCATION:Meridian Library District\, 1326 W Cherry Ln\, Meridian\, ID\, United States
CATEGORIES:External LGBTQIA+ Events
GEO:43.619148;-116.410315
X-APPLE-STRUCTURED-LOCATION;VALUE=URI;X-ADDRESS=Meridian Library District 1326 W Cherry Ln Meridian ID United States;X-APPLE-RADIUS=500;X-TITLE=1326 W Cherry Ln:geo:-116.410315,43.619148
END:VEVENT
BEGIN:VEVENT
DTSTART;TZID=America/Boise:20260526T190000
DTEND;TZID=America/Boise:20260526T200000
DTSTAMP:20260425T095336
CREATED:20260401T151056Z
LAST-MODIFIED:20260401T151056Z
UID:10002230-1779822000-1779825600@tccidaho.org
SUMMARY:LGBTQ AA Meeting "A Vision For You"
DESCRIPTION:Learn more at https://idahoarea18aa.org/meetings/?meeting=a-vision-for-you
URL:https://tccidaho.org/calendar/lgbtq-aa-meeting-a-vision-for-you-296/
LOCATION:Wright Congregational United Church of Christ\, 5001 W Franklin Rd\, Boise\, ID\, United States
CATEGORIES:External LGBTQIA+ Events
GEO:43.602647;-116.243483
X-APPLE-STRUCTURED-LOCATION;VALUE=URI;X-ADDRESS=Wright Congregational United Church of Christ 5001 W Franklin Rd Boise ID United States;X-APPLE-RADIUS=500;X-TITLE=5001 W Franklin Rd:geo:-116.243483,43.602647
END:VEVENT
BEGIN:VEVENT
DTSTART;TZID=America/Boise:20260528T183000
DTEND;TZID=America/Boise:20260528T200000
DTSTAMP:20260425T095336
CREATED:20260401T151057Z
LAST-MODIFIED:20260401T151057Z
UID:10002232-1779993000-1779998400@tccidaho.org
SUMMARY:Clutch - LGBTQ Youth Group
DESCRIPTION:A safe space in the community for LGBTQ+ youth \nIf you are looking for a safe space to be yourself and LGBTQ+ describes you – come hang out at Clutch every Thursday from 6:30pm to 8pm. Ages 14-20 welcome \nNo pressure\, no judgement\, just you. \nAcross from Flying M Coffee Garage \nclutchnampa.orgclutchnampa@gmail.com
URL:https://tccidaho.org/calendar/clutch-lgbtq-youth-group-62/
LOCATION:120 14th Ave S\, Nampa\, ID\, United States
CATEGORIES:External LGBTQIA+ Events
GEO:43.595567;-116.61063
END:VEVENT
BEGIN:VEVENT
DTSTART;TZID=America/Boise:20260528T190000
DTEND;TZID=America/Boise:20260528T200000
DTSTAMP:20260425T095336
CREATED:20260401T151056Z
LAST-MODIFIED:20260401T151056Z
UID:10002231-1779994800-1779998400@tccidaho.org
SUMMARY:LGBTQ AA Meeting "A Vision For You"
DESCRIPTION:Learn more at https://idahoarea18aa.org/meetings/?meeting=a-vision-for-you
URL:https://tccidaho.org/calendar/lgbtq-aa-meeting-a-vision-for-you-297/
LOCATION:Wright Congregational United Church of Christ\, 5001 W Franklin Rd\, Boise\, ID\, United States
CATEGORIES:External LGBTQIA+ Events
GEO:43.602647;-116.243483
X-APPLE-STRUCTURED-LOCATION;VALUE=URI;X-ADDRESS=Wright Congregational United Church of Christ 5001 W Franklin Rd Boise ID United States;X-APPLE-RADIUS=500;X-TITLE=5001 W Franklin Rd:geo:-116.243483,43.602647
END:VEVENT
BEGIN:VEVENT
DTSTART;TZID=America/Boise:20260531T190000
DTEND;TZID=America/Boise:20260531T200000
DTSTAMP:20260425T095336
CREATED:20260402T150957Z
LAST-MODIFIED:20260402T150957Z
UID:10002233-1780254000-1780257600@tccidaho.org
SUMMARY:LGBTQ AA Meeting "A Vision For You"
DESCRIPTION:Learn more at https://idahoarea18aa.org/meetings/?meeting=a-vision-for-you
URL:https://tccidaho.org/calendar/lgbtq-aa-meeting-a-vision-for-you-298/
LOCATION:Wright Congregational United Church of Christ\, 5001 W Franklin Rd\, Boise\, ID\, United States
CATEGORIES:External LGBTQIA+ Events
GEO:43.602647;-116.243483
X-APPLE-STRUCTURED-LOCATION;VALUE=URI;X-ADDRESS=Wright Congregational United Church of Christ 5001 W Franklin Rd Boise ID United States;X-APPLE-RADIUS=500;X-TITLE=5001 W Franklin Rd:geo:-116.243483,43.602647
END:VEVENT
BEGIN:VEVENT
DTSTART;TZID=America/Boise:20260602T140000
DTEND;TZID=America/Boise:20260602T150000
DTSTAMP:20260425T095336
CREATED:20260403T150907Z
LAST-MODIFIED:20260403T150907Z
UID:10002235-1780408800-1780412400@tccidaho.org
SUMMARY:QSA Teen Group
DESCRIPTION:Cherry Lane  Teen SpaceEvery Tuesday2:00 pm – 3:00 pmProgram Type: Find Support\, Join a Club or Group \nAge Group: Teens (grades 7-12)Welcome to our Queer-Straight Alliance (QSA)! If you’re 13-18 years old and you’re a part of\, an ally of\, or curious about the LGBT+ community\, you’re invited! We meet every Tuesday at 2:00 pm.Contact InfoName: RachelEmail: rerskine@mld.orgPhone Number: (208) 888-4451
URL:https://tccidaho.org/calendar/qsa-teen-group-71/
LOCATION:Meridian Library District\, 1326 W Cherry Ln\, Meridian\, ID\, United States
CATEGORIES:External LGBTQIA+ Events
GEO:43.619148;-116.410315
X-APPLE-STRUCTURED-LOCATION;VALUE=URI;X-ADDRESS=Meridian Library District 1326 W Cherry Ln Meridian ID United States;X-APPLE-RADIUS=500;X-TITLE=1326 W Cherry Ln:geo:-116.410315,43.619148
END:VEVENT
BEGIN:VEVENT
DTSTART;TZID=America/Boise:20260602T190000
DTEND;TZID=America/Boise:20260602T200000
DTSTAMP:20260425T095336
CREATED:20260404T151435Z
LAST-MODIFIED:20260404T151435Z
UID:10002236-1780426800-1780430400@tccidaho.org
SUMMARY:LGBTQ AA Meeting "A Vision For You"
DESCRIPTION:Learn more at https://idahoarea18aa.org/meetings/?meeting=a-vision-for-you
URL:https://tccidaho.org/calendar/lgbtq-aa-meeting-a-vision-for-you-299/
LOCATION:Wright Congregational United Church of Christ\, 5001 W Franklin Rd\, Boise\, ID\, United States
CATEGORIES:External LGBTQIA+ Events
GEO:43.602647;-116.243483
X-APPLE-STRUCTURED-LOCATION;VALUE=URI;X-ADDRESS=Wright Congregational United Church of Christ 5001 W Franklin Rd Boise ID United States;X-APPLE-RADIUS=500;X-TITLE=5001 W Franklin Rd:geo:-116.243483,43.602647
END:VEVENT
BEGIN:VEVENT
DTSTART;TZID=America/Boise:20260604T183000
DTEND;TZID=America/Boise:20260604T200000
DTSTAMP:20260425T095336
CREATED:20260406T152428Z
LAST-MODIFIED:20260406T152428Z
UID:10002239-1780597800-1780603200@tccidaho.org
SUMMARY:Clutch - LGBTQ Youth Group
DESCRIPTION:A safe space in the community for LGBTQ+ youth \nIf you are looking for a safe space to be yourself and LGBTQ+ describes you – come hang out at Clutch every Thursday from 6:30pm to 8pm. Ages 14-20 welcome \nNo pressure\, no judgement\, just you. \nAcross from Flying M Coffee Garage \nclutchnampa.orgclutchnampa@gmail.com
URL:https://tccidaho.org/calendar/clutch-lgbtq-youth-group-63/
LOCATION:120 14th Ave S\, Nampa\, ID\, United States
CATEGORIES:External LGBTQIA+ Events
GEO:43.595567;-116.61063
END:VEVENT
BEGIN:VEVENT
DTSTART;TZID=America/Boise:20260604T190000
DTEND;TZID=America/Boise:20260604T200000
DTSTAMP:20260425T095337
CREATED:20260406T152429Z
LAST-MODIFIED:20260406T152429Z
UID:10002240-1780599600-1780603200@tccidaho.org
SUMMARY:LGBTQ AA Meeting "A Vision For You"
DESCRIPTION:Learn more at https://idahoarea18aa.org/meetings/?meeting=a-vision-for-you
URL:https://tccidaho.org/calendar/lgbtq-aa-meeting-a-vision-for-you-300/
LOCATION:Wright Congregational United Church of Christ\, 5001 W Franklin Rd\, Boise\, ID\, United States
CATEGORIES:External LGBTQIA+ Events
GEO:43.602647;-116.243483
X-APPLE-STRUCTURED-LOCATION;VALUE=URI;X-ADDRESS=Wright Congregational United Church of Christ 5001 W Franklin Rd Boise ID United States;X-APPLE-RADIUS=500;X-TITLE=5001 W Franklin Rd:geo:-116.243483,43.602647
END:VEVENT
BEGIN:VEVENT
DTSTART;TZID=America/Boise:20260607T190000
DTEND;TZID=America/Boise:20260607T200000
DTSTAMP:20260425T095337
CREATED:20260409T155444Z
LAST-MODIFIED:20260409T155444Z
UID:10002249-1780858800-1780862400@tccidaho.org
SUMMARY:LGBTQ AA Meeting "A Vision For You"
DESCRIPTION:Learn more at https://idahoarea18aa.org/meetings/?meeting=a-vision-for-you
URL:https://tccidaho.org/calendar/lgbtq-aa-meeting-a-vision-for-you-301/
LOCATION:Wright Congregational United Church of Christ\, 5001 W Franklin Rd\, Boise\, ID\, United States
CATEGORIES:External LGBTQIA+ Events
GEO:43.602647;-116.243483
X-APPLE-STRUCTURED-LOCATION;VALUE=URI;X-ADDRESS=Wright Congregational United Church of Christ 5001 W Franklin Rd Boise ID United States;X-APPLE-RADIUS=500;X-TITLE=5001 W Franklin Rd:geo:-116.243483,43.602647
END:VEVENT
BEGIN:VEVENT
DTSTART;TZID=America/Boise:20260609T140000
DTEND;TZID=America/Boise:20260609T150000
DTSTAMP:20260425T095337
CREATED:20260410T155508Z
LAST-MODIFIED:20260410T155508Z
UID:10002251-1781013600-1781017200@tccidaho.org
SUMMARY:QSA Teen Group
DESCRIPTION:Cherry Lane  Teen SpaceEvery Tuesday2:00 pm – 3:00 pmProgram Type: Find Support\, Join a Club or Group \nAge Group: Teens (grades 7-12)Welcome to our Queer-Straight Alliance (QSA)! If you’re 13-18 years old and you’re a part of\, an ally of\, or curious about the LGBT+ community\, you’re invited! We meet every Tuesday at 2:00 pm.Contact InfoName: RachelEmail: rerskine@mld.orgPhone Number: (208) 888-4451
URL:https://tccidaho.org/calendar/qsa-teen-group-72/
LOCATION:Meridian Library District\, 1326 W Cherry Ln\, Meridian\, ID\, United States
CATEGORIES:External LGBTQIA+ Events
GEO:43.619148;-116.410315
X-APPLE-STRUCTURED-LOCATION;VALUE=URI;X-ADDRESS=Meridian Library District 1326 W Cherry Ln Meridian ID United States;X-APPLE-RADIUS=500;X-TITLE=1326 W Cherry Ln:geo:-116.410315,43.619148
END:VEVENT
END:VCALENDAR