BEGIN:VCALENDAR
VERSION:2.0
PRODID:-//The Community Center - ECPv6.15.20//NONSGML v1.0//EN
CALSCALE:GREGORIAN
METHOD:PUBLISH
X-WR-CALNAME:The Community Center
X-ORIGINAL-URL:https://tccidaho.org
X-WR-CALDESC:Events for The Community Center
REFRESH-INTERVAL;VALUE=DURATION:PT1H
X-Robots-Tag:noindex
X-PUBLISHED-TTL:PT1H
BEGIN:VTIMEZONE
TZID:America/Boise
BEGIN:DAYLIGHT
TZOFFSETFROM:-0700
TZOFFSETTO:-0600
TZNAME:MDT
DTSTART:20250309T090000
END:DAYLIGHT
BEGIN:STANDARD
TZOFFSETFROM:-0600
TZOFFSETTO:-0700
TZNAME:MST
DTSTART:20251102T080000
END:STANDARD
BEGIN:DAYLIGHT
TZOFFSETFROM:-0700
TZOFFSETTO:-0600
TZNAME:MDT
DTSTART:20260308T090000
END:DAYLIGHT
BEGIN:STANDARD
TZOFFSETFROM:-0600
TZOFFSETTO:-0700
TZNAME:MST
DTSTART:20261101T080000
END:STANDARD
BEGIN:DAYLIGHT
TZOFFSETFROM:-0700
TZOFFSETTO:-0600
TZNAME:MDT
DTSTART:20270314T090000
END:DAYLIGHT
BEGIN:STANDARD
TZOFFSETFROM:-0600
TZOFFSETTO:-0700
TZNAME:MST
DTSTART:20271107T080000
END:STANDARD
END:VTIMEZONE
BEGIN:VEVENT
DTSTART;TZID=America/Boise:20260526T190000
DTEND;TZID=America/Boise:20260526T200000
DTSTAMP:20260425T074714
CREATED:20260401T151056Z
LAST-MODIFIED:20260401T151056Z
UID:10002230-1779822000-1779825600@tccidaho.org
SUMMARY:LGBTQ AA Meeting "A Vision For You"
DESCRIPTION:Learn more at https://idahoarea18aa.org/meetings/?meeting=a-vision-for-you
URL:https://tccidaho.org/calendar/lgbtq-aa-meeting-a-vision-for-you-296/
LOCATION:Wright Congregational United Church of Christ\, 5001 W Franklin Rd\, Boise\, ID\, United States
CATEGORIES:External LGBTQIA+ Events
GEO:43.602647;-116.243483
X-APPLE-STRUCTURED-LOCATION;VALUE=URI;X-ADDRESS=Wright Congregational United Church of Christ 5001 W Franklin Rd Boise ID United States;X-APPLE-RADIUS=500;X-TITLE=5001 W Franklin Rd:geo:-116.243483,43.602647
END:VEVENT
BEGIN:VEVENT
DTSTART;TZID=America/Boise:20260528T183000
DTEND;TZID=America/Boise:20260528T200000
DTSTAMP:20260425T074714
CREATED:20260401T151057Z
LAST-MODIFIED:20260401T151057Z
UID:10002232-1779993000-1779998400@tccidaho.org
SUMMARY:Clutch - LGBTQ Youth Group
DESCRIPTION:A safe space in the community for LGBTQ+ youth \nIf you are looking for a safe space to be yourself and LGBTQ+ describes you – come hang out at Clutch every Thursday from 6:30pm to 8pm. Ages 14-20 welcome \nNo pressure\, no judgement\, just you. \nAcross from Flying M Coffee Garage \nclutchnampa.orgclutchnampa@gmail.com
URL:https://tccidaho.org/calendar/clutch-lgbtq-youth-group-62/
LOCATION:120 14th Ave S\, Nampa\, ID\, United States
CATEGORIES:External LGBTQIA+ Events
GEO:43.595567;-116.61063
END:VEVENT
BEGIN:VEVENT
DTSTART;TZID=America/Boise:20260528T190000
DTEND;TZID=America/Boise:20260528T200000
DTSTAMP:20260425T074714
CREATED:20260401T151056Z
LAST-MODIFIED:20260401T151056Z
UID:10002231-1779994800-1779998400@tccidaho.org
SUMMARY:LGBTQ AA Meeting "A Vision For You"
DESCRIPTION:Learn more at https://idahoarea18aa.org/meetings/?meeting=a-vision-for-you
URL:https://tccidaho.org/calendar/lgbtq-aa-meeting-a-vision-for-you-297/
LOCATION:Wright Congregational United Church of Christ\, 5001 W Franklin Rd\, Boise\, ID\, United States
CATEGORIES:External LGBTQIA+ Events
GEO:43.602647;-116.243483
X-APPLE-STRUCTURED-LOCATION;VALUE=URI;X-ADDRESS=Wright Congregational United Church of Christ 5001 W Franklin Rd Boise ID United States;X-APPLE-RADIUS=500;X-TITLE=5001 W Franklin Rd:geo:-116.243483,43.602647
END:VEVENT
BEGIN:VEVENT
DTSTART;TZID=America/Boise:20260531T190000
DTEND;TZID=America/Boise:20260531T200000
DTSTAMP:20260425T074714
CREATED:20260402T150957Z
LAST-MODIFIED:20260402T150957Z
UID:10002233-1780254000-1780257600@tccidaho.org
SUMMARY:LGBTQ AA Meeting "A Vision For You"
DESCRIPTION:Learn more at https://idahoarea18aa.org/meetings/?meeting=a-vision-for-you
URL:https://tccidaho.org/calendar/lgbtq-aa-meeting-a-vision-for-you-298/
LOCATION:Wright Congregational United Church of Christ\, 5001 W Franklin Rd\, Boise\, ID\, United States
CATEGORIES:External LGBTQIA+ Events
GEO:43.602647;-116.243483
X-APPLE-STRUCTURED-LOCATION;VALUE=URI;X-ADDRESS=Wright Congregational United Church of Christ 5001 W Franklin Rd Boise ID United States;X-APPLE-RADIUS=500;X-TITLE=5001 W Franklin Rd:geo:-116.243483,43.602647
END:VEVENT
BEGIN:VEVENT
DTSTART;TZID=America/Boise:20260602T140000
DTEND;TZID=America/Boise:20260602T150000
DTSTAMP:20260425T074714
CREATED:20260403T150907Z
LAST-MODIFIED:20260403T150907Z
UID:10002235-1780408800-1780412400@tccidaho.org
SUMMARY:QSA Teen Group
DESCRIPTION:Cherry Lane  Teen SpaceEvery Tuesday2:00 pm – 3:00 pmProgram Type: Find Support\, Join a Club or Group \nAge Group: Teens (grades 7-12)Welcome to our Queer-Straight Alliance (QSA)! If you’re 13-18 years old and you’re a part of\, an ally of\, or curious about the LGBT+ community\, you’re invited! We meet every Tuesday at 2:00 pm.Contact InfoName: RachelEmail: rerskine@mld.orgPhone Number: (208) 888-4451
URL:https://tccidaho.org/calendar/qsa-teen-group-71/
LOCATION:Meridian Library District\, 1326 W Cherry Ln\, Meridian\, ID\, United States
CATEGORIES:External LGBTQIA+ Events
GEO:43.619148;-116.410315
X-APPLE-STRUCTURED-LOCATION;VALUE=URI;X-ADDRESS=Meridian Library District 1326 W Cherry Ln Meridian ID United States;X-APPLE-RADIUS=500;X-TITLE=1326 W Cherry Ln:geo:-116.410315,43.619148
END:VEVENT
BEGIN:VEVENT
DTSTART;TZID=America/Boise:20260602T190000
DTEND;TZID=America/Boise:20260602T200000
DTSTAMP:20260425T074714
CREATED:20260404T151435Z
LAST-MODIFIED:20260404T151435Z
UID:10002236-1780426800-1780430400@tccidaho.org
SUMMARY:LGBTQ AA Meeting "A Vision For You"
DESCRIPTION:Learn more at https://idahoarea18aa.org/meetings/?meeting=a-vision-for-you
URL:https://tccidaho.org/calendar/lgbtq-aa-meeting-a-vision-for-you-299/
LOCATION:Wright Congregational United Church of Christ\, 5001 W Franklin Rd\, Boise\, ID\, United States
CATEGORIES:External LGBTQIA+ Events
GEO:43.602647;-116.243483
X-APPLE-STRUCTURED-LOCATION;VALUE=URI;X-ADDRESS=Wright Congregational United Church of Christ 5001 W Franklin Rd Boise ID United States;X-APPLE-RADIUS=500;X-TITLE=5001 W Franklin Rd:geo:-116.243483,43.602647
END:VEVENT
BEGIN:VEVENT
DTSTART;TZID=America/Boise:20260604T183000
DTEND;TZID=America/Boise:20260604T200000
DTSTAMP:20260425T074714
CREATED:20260406T152428Z
LAST-MODIFIED:20260406T152428Z
UID:10002239-1780597800-1780603200@tccidaho.org
SUMMARY:Clutch - LGBTQ Youth Group
DESCRIPTION:A safe space in the community for LGBTQ+ youth \nIf you are looking for a safe space to be yourself and LGBTQ+ describes you – come hang out at Clutch every Thursday from 6:30pm to 8pm. Ages 14-20 welcome \nNo pressure\, no judgement\, just you. \nAcross from Flying M Coffee Garage \nclutchnampa.orgclutchnampa@gmail.com
URL:https://tccidaho.org/calendar/clutch-lgbtq-youth-group-63/
LOCATION:120 14th Ave S\, Nampa\, ID\, United States
CATEGORIES:External LGBTQIA+ Events
GEO:43.595567;-116.61063
END:VEVENT
BEGIN:VEVENT
DTSTART;TZID=America/Boise:20260604T190000
DTEND;TZID=America/Boise:20260604T200000
DTSTAMP:20260425T074714
CREATED:20260406T152429Z
LAST-MODIFIED:20260406T152429Z
UID:10002240-1780599600-1780603200@tccidaho.org
SUMMARY:LGBTQ AA Meeting "A Vision For You"
DESCRIPTION:Learn more at https://idahoarea18aa.org/meetings/?meeting=a-vision-for-you
URL:https://tccidaho.org/calendar/lgbtq-aa-meeting-a-vision-for-you-300/
LOCATION:Wright Congregational United Church of Christ\, 5001 W Franklin Rd\, Boise\, ID\, United States
CATEGORIES:External LGBTQIA+ Events
GEO:43.602647;-116.243483
X-APPLE-STRUCTURED-LOCATION;VALUE=URI;X-ADDRESS=Wright Congregational United Church of Christ 5001 W Franklin Rd Boise ID United States;X-APPLE-RADIUS=500;X-TITLE=5001 W Franklin Rd:geo:-116.243483,43.602647
END:VEVENT
BEGIN:VEVENT
DTSTART;TZID=America/Boise:20260607T190000
DTEND;TZID=America/Boise:20260607T200000
DTSTAMP:20260425T074714
CREATED:20260409T155444Z
LAST-MODIFIED:20260409T155444Z
UID:10002249-1780858800-1780862400@tccidaho.org
SUMMARY:LGBTQ AA Meeting "A Vision For You"
DESCRIPTION:Learn more at https://idahoarea18aa.org/meetings/?meeting=a-vision-for-you
URL:https://tccidaho.org/calendar/lgbtq-aa-meeting-a-vision-for-you-301/
LOCATION:Wright Congregational United Church of Christ\, 5001 W Franklin Rd\, Boise\, ID\, United States
CATEGORIES:External LGBTQIA+ Events
GEO:43.602647;-116.243483
X-APPLE-STRUCTURED-LOCATION;VALUE=URI;X-ADDRESS=Wright Congregational United Church of Christ 5001 W Franklin Rd Boise ID United States;X-APPLE-RADIUS=500;X-TITLE=5001 W Franklin Rd:geo:-116.243483,43.602647
END:VEVENT
BEGIN:VEVENT
DTSTART;TZID=America/Boise:20260609T140000
DTEND;TZID=America/Boise:20260609T150000
DTSTAMP:20260425T074714
CREATED:20260410T155508Z
LAST-MODIFIED:20260410T155508Z
UID:10002251-1781013600-1781017200@tccidaho.org
SUMMARY:QSA Teen Group
DESCRIPTION:Cherry Lane  Teen SpaceEvery Tuesday2:00 pm – 3:00 pmProgram Type: Find Support\, Join a Club or Group \nAge Group: Teens (grades 7-12)Welcome to our Queer-Straight Alliance (QSA)! If you’re 13-18 years old and you’re a part of\, an ally of\, or curious about the LGBT+ community\, you’re invited! We meet every Tuesday at 2:00 pm.Contact InfoName: RachelEmail: rerskine@mld.orgPhone Number: (208) 888-4451
URL:https://tccidaho.org/calendar/qsa-teen-group-72/
LOCATION:Meridian Library District\, 1326 W Cherry Ln\, Meridian\, ID\, United States
CATEGORIES:External LGBTQIA+ Events
GEO:43.619148;-116.410315
X-APPLE-STRUCTURED-LOCATION;VALUE=URI;X-ADDRESS=Meridian Library District 1326 W Cherry Ln Meridian ID United States;X-APPLE-RADIUS=500;X-TITLE=1326 W Cherry Ln:geo:-116.410315,43.619148
END:VEVENT
BEGIN:VEVENT
DTSTART;TZID=America/Boise:20260609T190000
DTEND;TZID=America/Boise:20260609T200000
DTSTAMP:20260425T074714
CREATED:20260411T155520Z
LAST-MODIFIED:20260411T155520Z
UID:10002252-1781031600-1781035200@tccidaho.org
SUMMARY:LGBTQ AA Meeting "A Vision For You"
DESCRIPTION:Learn more at https://idahoarea18aa.org/meetings/?meeting=a-vision-for-you
URL:https://tccidaho.org/calendar/lgbtq-aa-meeting-a-vision-for-you-302/
LOCATION:Wright Congregational United Church of Christ\, 5001 W Franklin Rd\, Boise\, ID\, United States
CATEGORIES:External LGBTQIA+ Events
GEO:43.602647;-116.243483
X-APPLE-STRUCTURED-LOCATION;VALUE=URI;X-ADDRESS=Wright Congregational United Church of Christ 5001 W Franklin Rd Boise ID United States;X-APPLE-RADIUS=500;X-TITLE=5001 W Franklin Rd:geo:-116.243483,43.602647
END:VEVENT
BEGIN:VEVENT
DTSTART;TZID=America/Boise:20260611T183000
DTEND;TZID=America/Boise:20260611T200000
DTSTAMP:20260425T074714
CREATED:20260413T155618Z
LAST-MODIFIED:20260413T155618Z
UID:10002255-1781202600-1781208000@tccidaho.org
SUMMARY:Clutch - LGBTQ Youth Group
DESCRIPTION:A safe space in the community for LGBTQ+ youth \nIf you are looking for a safe space to be yourself and LGBTQ+ describes you – come hang out at Clutch every Thursday from 6:30pm to 8pm. Ages 14-20 welcome \nNo pressure\, no judgement\, just you. \nAcross from Flying M Coffee Garage \nclutchnampa.orgclutchnampa@gmail.com
URL:https://tccidaho.org/calendar/clutch-lgbtq-youth-group-64/
LOCATION:120 14th Ave S\, Nampa\, ID\, United States
CATEGORIES:External LGBTQIA+ Events
GEO:43.595567;-116.61063
END:VEVENT
BEGIN:VEVENT
DTSTART;TZID=America/Boise:20260611T190000
DTEND;TZID=America/Boise:20260611T200000
DTSTAMP:20260425T074714
CREATED:20260413T155618Z
LAST-MODIFIED:20260413T155618Z
UID:10002254-1781204400-1781208000@tccidaho.org
SUMMARY:LGBTQ AA Meeting "A Vision For You"
DESCRIPTION:Learn more at https://idahoarea18aa.org/meetings/?meeting=a-vision-for-you
URL:https://tccidaho.org/calendar/lgbtq-aa-meeting-a-vision-for-you-303/
LOCATION:Wright Congregational United Church of Christ\, 5001 W Franklin Rd\, Boise\, ID\, United States
CATEGORIES:External LGBTQIA+ Events
GEO:43.602647;-116.243483
X-APPLE-STRUCTURED-LOCATION;VALUE=URI;X-ADDRESS=Wright Congregational United Church of Christ 5001 W Franklin Rd Boise ID United States;X-APPLE-RADIUS=500;X-TITLE=5001 W Franklin Rd:geo:-116.243483,43.602647
END:VEVENT
BEGIN:VEVENT
DTSTART;TZID=America/Boise:20260614T190000
DTEND;TZID=America/Boise:20260614T200000
DTSTAMP:20260425T074714
CREATED:20260416T155402Z
LAST-MODIFIED:20260416T155402Z
UID:10002260-1781463600-1781467200@tccidaho.org
SUMMARY:LGBTQ AA Meeting "A Vision For You"
DESCRIPTION:Learn more at https://idahoarea18aa.org/meetings/?meeting=a-vision-for-you
URL:https://tccidaho.org/calendar/lgbtq-aa-meeting-a-vision-for-you-304/
LOCATION:Wright Congregational United Church of Christ\, 5001 W Franklin Rd\, Boise\, ID\, United States
CATEGORIES:External LGBTQIA+ Events
GEO:43.602647;-116.243483
X-APPLE-STRUCTURED-LOCATION;VALUE=URI;X-ADDRESS=Wright Congregational United Church of Christ 5001 W Franklin Rd Boise ID United States;X-APPLE-RADIUS=500;X-TITLE=5001 W Franklin Rd:geo:-116.243483,43.602647
END:VEVENT
BEGIN:VEVENT
DTSTART;TZID=America/Boise:20260616T140000
DTEND;TZID=America/Boise:20260616T150000
DTSTAMP:20260425T074714
CREATED:20260417T155420Z
LAST-MODIFIED:20260417T155420Z
UID:10002261-1781618400-1781622000@tccidaho.org
SUMMARY:QSA Teen Group
DESCRIPTION:Cherry Lane  Teen SpaceEvery Tuesday2:00 pm – 3:00 pmProgram Type: Find Support\, Join a Club or Group \nAge Group: Teens (grades 7-12)Welcome to our Queer-Straight Alliance (QSA)! If you’re 13-18 years old and you’re a part of\, an ally of\, or curious about the LGBT+ community\, you’re invited! We meet every Tuesday at 2:00 pm.Contact InfoName: RachelEmail: rerskine@mld.orgPhone Number: (208) 888-4451
URL:https://tccidaho.org/calendar/qsa-teen-group-73/
LOCATION:Meridian Library District\, 1326 W Cherry Ln\, Meridian\, ID\, United States
CATEGORIES:External LGBTQIA+ Events
GEO:43.619148;-116.410315
X-APPLE-STRUCTURED-LOCATION;VALUE=URI;X-ADDRESS=Meridian Library District 1326 W Cherry Ln Meridian ID United States;X-APPLE-RADIUS=500;X-TITLE=1326 W Cherry Ln:geo:-116.410315,43.619148
END:VEVENT
BEGIN:VEVENT
DTSTART;TZID=America/Boise:20260616T190000
DTEND;TZID=America/Boise:20260616T200000
DTSTAMP:20260425T074714
CREATED:20260418T160907Z
LAST-MODIFIED:20260418T160907Z
UID:10002263-1781636400-1781640000@tccidaho.org
SUMMARY:LGBTQ AA Meeting "A Vision For You"
DESCRIPTION:Learn more at https://idahoarea18aa.org/meetings/?meeting=a-vision-for-you
URL:https://tccidaho.org/calendar/lgbtq-aa-meeting-a-vision-for-you-305/
LOCATION:Wright Congregational United Church of Christ\, 5001 W Franklin Rd\, Boise\, ID\, United States
CATEGORIES:External LGBTQIA+ Events
GEO:43.602647;-116.243483
X-APPLE-STRUCTURED-LOCATION;VALUE=URI;X-ADDRESS=Wright Congregational United Church of Christ 5001 W Franklin Rd Boise ID United States;X-APPLE-RADIUS=500;X-TITLE=5001 W Franklin Rd:geo:-116.243483,43.602647
END:VEVENT
BEGIN:VEVENT
DTSTART;TZID=America/Boise:20260618T183000
DTEND;TZID=America/Boise:20260618T200000
DTSTAMP:20260425T074714
CREATED:20260420T162446Z
LAST-MODIFIED:20260420T162446Z
UID:10002265-1781807400-1781812800@tccidaho.org
SUMMARY:Clutch - LGBTQ Youth Group
DESCRIPTION:A safe space in the community for LGBTQ+ youth \nIf you are looking for a safe space to be yourself and LGBTQ+ describes you – come hang out at Clutch every Thursday from 6:30pm to 8pm. Ages 14-20 welcome \nNo pressure\, no judgement\, just you. \nAcross from Flying M Coffee Garage \nclutchnampa.orgclutchnampa@gmail.com
URL:https://tccidaho.org/calendar/clutch-lgbtq-youth-group-65/
LOCATION:120 14th Ave S\, Nampa\, ID\, United States
CATEGORIES:External LGBTQIA+ Events
GEO:43.595567;-116.61063
END:VEVENT
BEGIN:VEVENT
DTSTART;TZID=America/Boise:20260618T190000
DTEND;TZID=America/Boise:20260618T200000
DTSTAMP:20260425T074714
CREATED:20260420T162446Z
LAST-MODIFIED:20260420T162446Z
UID:10002266-1781809200-1781812800@tccidaho.org
SUMMARY:LGBTQ AA Meeting "A Vision For You"
DESCRIPTION:Learn more at https://idahoarea18aa.org/meetings/?meeting=a-vision-for-you
URL:https://tccidaho.org/calendar/lgbtq-aa-meeting-a-vision-for-you-306/
LOCATION:Wright Congregational United Church of Christ\, 5001 W Franklin Rd\, Boise\, ID\, United States
CATEGORIES:External LGBTQIA+ Events
GEO:43.602647;-116.243483
X-APPLE-STRUCTURED-LOCATION;VALUE=URI;X-ADDRESS=Wright Congregational United Church of Christ 5001 W Franklin Rd Boise ID United States;X-APPLE-RADIUS=500;X-TITLE=5001 W Franklin Rd:geo:-116.243483,43.602647
END:VEVENT
BEGIN:VEVENT
DTSTART;TZID=America/Boise:20260621T190000
DTEND;TZID=America/Boise:20260621T200000
DTSTAMP:20260425T074714
CREATED:20260423T164000Z
LAST-MODIFIED:20260423T164000Z
UID:10002273-1782068400-1782072000@tccidaho.org
SUMMARY:LGBTQ AA Meeting "A Vision For You"
DESCRIPTION:Learn more at https://idahoarea18aa.org/meetings/?meeting=a-vision-for-you
URL:https://tccidaho.org/calendar/lgbtq-aa-meeting-a-vision-for-you-307/
LOCATION:Wright Congregational United Church of Christ\, 5001 W Franklin Rd\, Boise\, ID\, United States
CATEGORIES:External LGBTQIA+ Events
GEO:43.602647;-116.243483
X-APPLE-STRUCTURED-LOCATION;VALUE=URI;X-ADDRESS=Wright Congregational United Church of Christ 5001 W Franklin Rd Boise ID United States;X-APPLE-RADIUS=500;X-TITLE=5001 W Franklin Rd:geo:-116.243483,43.602647
END:VEVENT
BEGIN:VEVENT
DTSTART;TZID=America/Boise:20260623T140000
DTEND;TZID=America/Boise:20260623T150000
DTSTAMP:20260425T074714
CREATED:20260424T164102Z
LAST-MODIFIED:20260424T164102Z
UID:10002275-1782223200-1782226800@tccidaho.org
SUMMARY:QSA Teen Group
DESCRIPTION:Cherry Lane  Teen SpaceEvery Tuesday2:00 pm – 3:00 pmProgram Type: Find Support\, Join a Club or Group \nAge Group: Teens (grades 7-12)Welcome to our Queer-Straight Alliance (QSA)! If you’re 13-18 years old and you’re a part of\, an ally of\, or curious about the LGBT+ community\, you’re invited! We meet every Tuesday at 2:00 pm.Contact InfoName: RachelEmail: rerskine@mld.orgPhone Number: (208) 888-4451
URL:https://tccidaho.org/calendar/qsa-teen-group-74/
LOCATION:Meridian Library District\, 1326 W Cherry Ln\, Meridian\, ID\, United States
CATEGORIES:External LGBTQIA+ Events
GEO:43.619148;-116.410315
X-APPLE-STRUCTURED-LOCATION;VALUE=URI;X-ADDRESS=Meridian Library District 1326 W Cherry Ln Meridian ID United States;X-APPLE-RADIUS=500;X-TITLE=1326 W Cherry Ln:geo:-116.410315,43.619148
END:VEVENT
END:VCALENDAR