BEGIN:VCALENDAR
VERSION:2.0
PRODID:-//The Community Center - ECPv6.15.20//NONSGML v1.0//EN
CALSCALE:GREGORIAN
METHOD:PUBLISH
X-WR-CALNAME:The Community Center
X-ORIGINAL-URL:https://tccidaho.org
X-WR-CALDESC:Events for The Community Center
REFRESH-INTERVAL;VALUE=DURATION:PT1H
X-Robots-Tag:noindex
X-PUBLISHED-TTL:PT1H
BEGIN:VTIMEZONE
TZID:America/Boise
BEGIN:DAYLIGHT
TZOFFSETFROM:-0700
TZOFFSETTO:-0600
TZNAME:MDT
DTSTART:20250309T090000
END:DAYLIGHT
BEGIN:STANDARD
TZOFFSETFROM:-0600
TZOFFSETTO:-0700
TZNAME:MST
DTSTART:20251102T080000
END:STANDARD
BEGIN:DAYLIGHT
TZOFFSETFROM:-0700
TZOFFSETTO:-0600
TZNAME:MDT
DTSTART:20260308T090000
END:DAYLIGHT
BEGIN:STANDARD
TZOFFSETFROM:-0600
TZOFFSETTO:-0700
TZNAME:MST
DTSTART:20261101T080000
END:STANDARD
BEGIN:DAYLIGHT
TZOFFSETFROM:-0700
TZOFFSETTO:-0600
TZNAME:MDT
DTSTART:20270314T090000
END:DAYLIGHT
BEGIN:STANDARD
TZOFFSETFROM:-0600
TZOFFSETTO:-0700
TZNAME:MST
DTSTART:20271107T080000
END:STANDARD
END:VTIMEZONE
BEGIN:VEVENT
DTSTART;TZID=America/Boise:20260124T100000
DTEND;TZID=America/Boise:20260124T140000
DTSTAMP:20260425T061248
CREATED:20251224T182547Z
LAST-MODIFIED:20251230T013701Z
UID:10002023-1769248800-1769263200@tccidaho.org
SUMMARY:Dungeons & Dragons
DESCRIPTION:Join us for a morning of dice-rolling\, Dungeons & Dragons fun. If it is your first time\, we have premade characters to play. Or if you are comfortable making your own character\, make a level 7 character using 2024 rules (using stat buy for attributes). All new and experienced players are welcome. We hope to see you there! \nLight snacks will be provided. Feel free to bring additional snacks and non-alcoholic drinks to share. \nCost: Free \nWhen: 4th Saturday of every month\, 10am-2pm
URL:https://tccidaho.org/calendar/dungeons-dragons-20/
LOCATION:The Community Center – TCC\, 1088 N Orchard St\, Boise\, ID\, United States
CATEGORIES:TCC Events,TCC Events
ATTACH;FMTTYPE=image/jpeg:https://tccidaho.org/wp-content/uploads/2025/12/DND-2026.jpg
GEO:43.614246;-116.243376
X-APPLE-STRUCTURED-LOCATION;VALUE=URI;X-ADDRESS=The Community Center – TCC 1088 N Orchard St Boise ID United States;X-APPLE-RADIUS=500;X-TITLE=1088 N Orchard St:geo:-116.243376,43.614246
END:VEVENT
BEGIN:VEVENT
DTSTART;TZID=America/Boise:20260124T180000
DTEND;TZID=America/Boise:20260124T210000
DTSTAMP:20260425T061248
CREATED:20251225T182439Z
LAST-MODIFIED:20251229T012626Z
UID:10002040-1769277600-1769288400@tccidaho.org
SUMMARY:Underground Cinema Night: L'immensita
DESCRIPTION:Art Haus Forest is a collective of queer art house film enthusiasts looking to elevate the spotlight on underground LGBTQIA+ cinema. Film screenings are free and open to the public. Light snacks will be provided. Feel free to bring additional snacks and non-alcoholic drinks to share. \nTHIS MONTH’S FILM \nL’immensita (2022): This gorgeous Italian film follows a mother played by Penelope Cruz as she raises a child who is questioning their gender identity. This is one of the warmest and most beautiful films about trans children that you’ll ever see. \nRun Time: 1h 39m
URL:https://tccidaho.org/calendar/underground-cinema-night-limmensita/
LOCATION:The Community Center – TCC\, 1088 N Orchard St\, Boise\, ID\, United States
CATEGORIES:Partner Event,TCC Events
ATTACH;FMTTYPE=image/jpeg:https://tccidaho.org/wp-content/uploads/2025/12/1.jpg
GEO:43.614246;-116.243376
X-APPLE-STRUCTURED-LOCATION;VALUE=URI;X-ADDRESS=The Community Center – TCC 1088 N Orchard St Boise ID United States;X-APPLE-RADIUS=500;X-TITLE=1088 N Orchard St:geo:-116.243376,43.614246
END:VEVENT
END:VCALENDAR