BEGIN:VCALENDAR
VERSION:2.0
PRODID:-//The Community Center - ECPv6.15.20//NONSGML v1.0//EN
CALSCALE:GREGORIAN
METHOD:PUBLISH
X-ORIGINAL-URL:https://tccidaho.org
X-WR-CALDESC:Events for The Community Center
REFRESH-INTERVAL;VALUE=DURATION:PT1H
X-Robots-Tag:noindex
X-PUBLISHED-TTL:PT1H
BEGIN:VTIMEZONE
TZID:America/Boise
BEGIN:DAYLIGHT
TZOFFSETFROM:-0700
TZOFFSETTO:-0600
TZNAME:MDT
DTSTART:20250309T090000
END:DAYLIGHT
BEGIN:STANDARD
TZOFFSETFROM:-0600
TZOFFSETTO:-0700
TZNAME:MST
DTSTART:20251102T080000
END:STANDARD
BEGIN:DAYLIGHT
TZOFFSETFROM:-0700
TZOFFSETTO:-0600
TZNAME:MDT
DTSTART:20260308T090000
END:DAYLIGHT
BEGIN:STANDARD
TZOFFSETFROM:-0600
TZOFFSETTO:-0700
TZNAME:MST
DTSTART:20261101T080000
END:STANDARD
BEGIN:DAYLIGHT
TZOFFSETFROM:-0700
TZOFFSETTO:-0600
TZNAME:MDT
DTSTART:20270314T090000
END:DAYLIGHT
BEGIN:STANDARD
TZOFFSETFROM:-0600
TZOFFSETTO:-0700
TZNAME:MST
DTSTART:20271107T080000
END:STANDARD
END:VTIMEZONE
BEGIN:VEVENT
DTSTART;TZID=America/Boise:20260304T180000
DTEND;TZID=America/Boise:20260304T190000
DTSTAMP:20260425T060006
CREATED:20260104T185559Z
LAST-MODIFIED:20260220T021431Z
UID:10002066-1772647200-1772650800@tccidaho.org
SUMMARY:Imperial Sovereign Gem Court of Idaho: Board Meeting
DESCRIPTION:Board meeting of the Imperial Sovereign Gem Court of Idaho (The Gem Court). https://idahogemcourt.org/
URL:https://tccidaho.org/calendar/imperial-sovereign-gem-court-of-idaho-board-meeting-15/
LOCATION:The Community Center – TCC\, 1088 N Orchard St\, Boise\, ID\, United States
CATEGORIES:TCC Events
ATTACH;FMTTYPE=image/jpeg:https://tccidaho.org/wp-content/uploads/2025/01/isgci-board.jpg
GEO:43.614246;-116.243376
X-APPLE-STRUCTURED-LOCATION;VALUE=URI;X-ADDRESS=The Community Center – TCC 1088 N Orchard St Boise ID United States;X-APPLE-RADIUS=500;X-TITLE=1088 N Orchard St:geo:-116.243376,43.614246
END:VEVENT
BEGIN:VEVENT
DTSTART;TZID=America/Boise:20260304T190000
DTEND;TZID=America/Boise:20260304T200000
DTSTAMP:20260425T060006
CREATED:20260104T185558Z
LAST-MODIFIED:20260220T021612Z
UID:10002065-1772650800-1772654400@tccidaho.org
SUMMARY:Imperial Sovereign Gem Court of Idaho: General Meeting
DESCRIPTION:The Imperial Sovereign Gem Court of Idaho is a social and charitable organization that is open to all LGBTQIA+ folks! All are welcome to join their general meeting to come build community\, have fun\, and plan events. \nLearn more on their website and Facebook page. \nWhen: First Wednesday of every month at 7pm
URL:https://tccidaho.org/calendar/imperial-sovereign-gem-court-of-idaho-general-meeting-17/
LOCATION:The Community Center – TCC\, 1088 N Orchard St\, Boise\, ID\, United States
CATEGORIES:TCC Events
ATTACH;FMTTYPE=image/jpeg:https://tccidaho.org/wp-content/uploads/2025/01/isgci-general.jpg
GEO:43.614246;-116.243376
X-APPLE-STRUCTURED-LOCATION;VALUE=URI;X-ADDRESS=The Community Center – TCC 1088 N Orchard St Boise ID United States;X-APPLE-RADIUS=500;X-TITLE=1088 N Orchard St:geo:-116.243376,43.614246
END:VEVENT
END:VCALENDAR