BEGIN:VCALENDAR
VERSION:2.0
PRODID:-//The Community Center - ECPv6.15.20//NONSGML v1.0//EN
CALSCALE:GREGORIAN
METHOD:PUBLISH
X-WR-CALNAME:The Community Center
X-ORIGINAL-URL:https://tccidaho.org
X-WR-CALDESC:Events for The Community Center
REFRESH-INTERVAL;VALUE=DURATION:PT1H
X-Robots-Tag:noindex
X-PUBLISHED-TTL:PT1H
BEGIN:VTIMEZONE
TZID:America/Boise
BEGIN:DAYLIGHT
TZOFFSETFROM:-0700
TZOFFSETTO:-0600
TZNAME:MDT
DTSTART:20250309T090000
END:DAYLIGHT
BEGIN:STANDARD
TZOFFSETFROM:-0600
TZOFFSETTO:-0700
TZNAME:MST
DTSTART:20251102T080000
END:STANDARD
BEGIN:DAYLIGHT
TZOFFSETFROM:-0700
TZOFFSETTO:-0600
TZNAME:MDT
DTSTART:20260308T090000
END:DAYLIGHT
BEGIN:STANDARD
TZOFFSETFROM:-0600
TZOFFSETTO:-0700
TZNAME:MST
DTSTART:20261101T080000
END:STANDARD
BEGIN:DAYLIGHT
TZOFFSETFROM:-0700
TZOFFSETTO:-0600
TZNAME:MDT
DTSTART:20270314T090000
END:DAYLIGHT
BEGIN:STANDARD
TZOFFSETFROM:-0600
TZOFFSETTO:-0700
TZNAME:MST
DTSTART:20271107T080000
END:STANDARD
END:VTIMEZONE
BEGIN:VEVENT
DTSTART;TZID=America/Boise:20260418T103000
DTEND;TZID=America/Boise:20260418T120000
DTSTAMP:20260424T201045
CREATED:20260329T132400Z
LAST-MODIFIED:20260331T222606Z
UID:10002223-1776508200-1776513600@tccidaho.org
SUMMARY:PolyQ Meetup
DESCRIPTION:Join us for our casual monthly meetup at The Community Center in Boise. This free event is for all LGBTQ identified folks in polyamory looking to connect with other people in our unique community. Polycurious folks are welcome to respectfully join. \nAt 10:40am we will start with introductions; so be ready to share your name\, pronouns\, and a get-to-know you question. The rest of the session is a free flow social and support time. Inspired by the NeuroQueer Collective\, PolyQ will provide chill coloring & painting supplies\, snacks\, and unstructured conversation. Feel free to drop in and out within our time block.
URL:https://tccidaho.org/calendar/polyq-meetup-2/
LOCATION:The Community Center (TCC)\, 1088 N Orchard St\, Boise\, ID\, United States
CATEGORIES:TCC Events
ATTACH;FMTTYPE=image/png:https://tccidaho.org/wp-content/uploads/2026/03/polyq-meetup.png
GEO:43.614246;-116.243376
X-APPLE-STRUCTURED-LOCATION;VALUE=URI;X-ADDRESS=The Community Center (TCC) 1088 N Orchard St Boise ID United States;X-APPLE-RADIUS=500;X-TITLE=1088 N Orchard St:geo:-116.243376,43.614246
END:VEVENT
BEGIN:VEVENT
DTSTART;TZID=America/Boise:20260418T133000
DTEND;TZID=America/Boise:20260418T163000
DTSTAMP:20260424T201045
CREATED:20260217T203835Z
LAST-MODIFIED:20260327T021333Z
UID:10002153-1776519000-1776529800@tccidaho.org
SUMMARY:Art & Craft Time
DESCRIPTION:Get your creativity on with our monthly Art & Craft Time! A featured art project is usually offered\, and we provide all the supplies. Or feel free to bring your own art or craft project to work on. \nLight snacks will be provided. Feel free to bring additional snacks and non-alcoholic drinks to share. \nCost: Free \nWhen: 3rd Saturdays\, 1:30pm-4:30pm
URL:https://tccidaho.org/calendar/art-craft-time-17/
LOCATION:The Community Center – TCC\, 1088 N Orchard St\, Boise\, ID\, United States
CATEGORIES:TCC Events
ATTACH;FMTTYPE=image/jpeg:https://tccidaho.org/wp-content/uploads/2024/06/Art-Craft-Time-FB-Event.jpg
GEO:43.614246;-116.243376
X-APPLE-STRUCTURED-LOCATION;VALUE=URI;X-ADDRESS=The Community Center – TCC 1088 N Orchard St Boise ID United States;X-APPLE-RADIUS=500;X-TITLE=1088 N Orchard St:geo:-116.243376,43.614246
END:VEVENT
BEGIN:VEVENT
DTSTART;TZID=America/Boise:20260418T190000
DTEND;TZID=America/Boise:20260418T210000
DTSTAMP:20260424T201045
CREATED:20260218T203951Z
LAST-MODIFIED:20260331T222816Z
UID:10002154-1776538800-1776546000@tccidaho.org
SUMMARY:Tri-States Transgender Support Group
DESCRIPTION:The Tri-States Transgender Support Group provides support\, advocacy\, education\, and social opportunities for the transgender community in a safe and fun atmosphere. Open to the entire spectrum of the transgender community\, including trans (FtM\, MtF)\, nonbinary\, intersex\, two-spirit\, genderqueer\, etc.\, significant others of trans folks\, and others interested in transgender issues. \nFor information (and for a initial interview for first-time attendees)\, contact Emilie Jackson-Edney at 208-830-7253 or emiedney@hotmail.com \nWhen: Every first and third Saturday of the month.
URL:https://tccidaho.org/calendar/tri-states-transgender-support-group-49/
LOCATION:The Community Center – TCC\, 1088 N Orchard St\, Boise\, ID\, United States
CATEGORIES:TCC Events
ATTACH;FMTTYPE=image/jpeg:https://tccidaho.org/wp-content/uploads/2024/06/Trans-Support-Group-FB-Event.jpg
GEO:43.614246;-116.243376
X-APPLE-STRUCTURED-LOCATION;VALUE=URI;X-ADDRESS=The Community Center – TCC 1088 N Orchard St Boise ID United States;X-APPLE-RADIUS=500;X-TITLE=1088 N Orchard St:geo:-116.243376,43.614246
END:VEVENT
END:VCALENDAR