BEGIN:VCALENDAR
VERSION:2.0
PRODID:-//The Community Center - ECPv6.15.20//NONSGML v1.0//EN
CALSCALE:GREGORIAN
METHOD:PUBLISH
X-ORIGINAL-URL:https://tccidaho.org
X-WR-CALDESC:Events for The Community Center
REFRESH-INTERVAL;VALUE=DURATION:PT1H
X-Robots-Tag:noindex
X-PUBLISHED-TTL:PT1H
BEGIN:VTIMEZONE
TZID:America/Boise
BEGIN:DAYLIGHT
TZOFFSETFROM:-0700
TZOFFSETTO:-0600
TZNAME:MDT
DTSTART:20250309T090000
END:DAYLIGHT
BEGIN:STANDARD
TZOFFSETFROM:-0600
TZOFFSETTO:-0700
TZNAME:MST
DTSTART:20251102T080000
END:STANDARD
BEGIN:DAYLIGHT
TZOFFSETFROM:-0700
TZOFFSETTO:-0600
TZNAME:MDT
DTSTART:20260308T090000
END:DAYLIGHT
BEGIN:STANDARD
TZOFFSETFROM:-0600
TZOFFSETTO:-0700
TZNAME:MST
DTSTART:20261101T080000
END:STANDARD
BEGIN:DAYLIGHT
TZOFFSETFROM:-0700
TZOFFSETTO:-0600
TZNAME:MDT
DTSTART:20270314T090000
END:DAYLIGHT
BEGIN:STANDARD
TZOFFSETFROM:-0600
TZOFFSETTO:-0700
TZNAME:MST
DTSTART:20271107T080000
END:STANDARD
END:VTIMEZONE
BEGIN:VEVENT
DTSTART;TZID=America/Boise:20260423T180000
DTEND;TZID=America/Boise:20260423T193000
DTSTAMP:20260424T213056
CREATED:20260408T135454Z
LAST-MODIFIED:20260421T231018Z
UID:10002243-1776967200-1776972600@tccidaho.org
SUMMARY:TCC Board Meeting
DESCRIPTION:Monthly meeting of The Community Center’s Board of Directors\, which is held virtually on Google Meet. \nAnyone is welcome to attend\, but guests must listen only and may not participate in discussion or voting. \nWhen: 4th Thursday of each month\nJoin with Google Meet: https://meet.google.com/zkf-cguq-use\nOr dial: (US) +1 929-282-1119 PIN: 124650277#\nMore phone numbers: https://tel.meet/zkf-cguq-use?pin=2811037163367&hs=7\nLearn more about Meet at: https://support.google.com/a/users/answer/9282720
URL:https://tccidaho.org/calendar/tcc-board-meeting-43/
LOCATION:ID
CATEGORIES:TCC Events
ATTACH;FMTTYPE=image/jpeg:https://tccidaho.org/wp-content/uploads/2025/01/tcc-board.jpg
END:VEVENT
END:VCALENDAR