BEGIN:VCALENDAR
VERSION:2.0
PRODID:-//The Community Center - ECPv6.15.20//NONSGML v1.0//EN
CALSCALE:GREGORIAN
METHOD:PUBLISH
X-ORIGINAL-URL:https://tccidaho.org
X-WR-CALDESC:Events for The Community Center
REFRESH-INTERVAL;VALUE=DURATION:PT1H
X-Robots-Tag:noindex
X-PUBLISHED-TTL:PT1H
BEGIN:VTIMEZONE
TZID:America/Boise
BEGIN:DAYLIGHT
TZOFFSETFROM:-0700
TZOFFSETTO:-0600
TZNAME:MDT
DTSTART:20250309T090000
END:DAYLIGHT
BEGIN:STANDARD
TZOFFSETFROM:-0600
TZOFFSETTO:-0700
TZNAME:MST
DTSTART:20251102T080000
END:STANDARD
BEGIN:DAYLIGHT
TZOFFSETFROM:-0700
TZOFFSETTO:-0600
TZNAME:MDT
DTSTART:20260308T090000
END:DAYLIGHT
BEGIN:STANDARD
TZOFFSETFROM:-0600
TZOFFSETTO:-0700
TZNAME:MST
DTSTART:20261101T080000
END:STANDARD
BEGIN:DAYLIGHT
TZOFFSETFROM:-0700
TZOFFSETTO:-0600
TZNAME:MDT
DTSTART:20270314T090000
END:DAYLIGHT
BEGIN:STANDARD
TZOFFSETFROM:-0600
TZOFFSETTO:-0700
TZNAME:MST
DTSTART:20271107T080000
END:STANDARD
END:VTIMEZONE
BEGIN:VEVENT
DTSTART;TZID=America/Boise:20260425T100000
DTEND;TZID=America/Boise:20260425T140000
DTSTAMP:20260424T215149
CREATED:20260224T205337Z
LAST-MODIFIED:20260331T230804Z
UID:10002165-1777111200-1777125600@tccidaho.org
SUMMARY:Dungeons & Dragons
DESCRIPTION:Join us for a morning of dice-rolling\, Dungeons & Dragons fun. If it is your first time\, we have premade characters to play. Or if you are comfortable making your own character\, make a level 7 character using 2024 rules (using stat buy for attributes). All new and experienced players are welcome. We hope to see you there! \nLight snacks will be provided. Feel free to bring additional snacks and non-alcoholic drinks to share. \nCost: Free \nWhen: 4th Saturday of every month\, 10am-2pm
URL:https://tccidaho.org/calendar/dungeons-dragons-23/
LOCATION:The Community Center – TCC\, 1088 N Orchard St\, Boise\, ID\, United States
CATEGORIES:TCC Events
ATTACH;FMTTYPE=image/jpeg:https://tccidaho.org/wp-content/uploads/2025/12/DND-2026.jpg
GEO:43.614246;-116.243376
X-APPLE-STRUCTURED-LOCATION;VALUE=URI;X-ADDRESS=The Community Center – TCC 1088 N Orchard St Boise ID United States;X-APPLE-RADIUS=500;X-TITLE=1088 N Orchard St:geo:-116.243376,43.614246
END:VEVENT
BEGIN:VEVENT
DTSTART;TZID=America/Boise:20260425T180000
DTEND;TZID=America/Boise:20260425T210000
DTSTAMP:20260424T215149
CREATED:20260225T205413Z
LAST-MODIFIED:20260331T231308Z
UID:10002167-1777140000-1777150800@tccidaho.org
SUMMARY:Underground Cinema Night: Moonlight
DESCRIPTION:Art Haus Forest is a collective of queer art house film enthusiasts looking to elevate the spotlight on underground LGBTQIA+ cinema. Film screenings are free and open to the public. Light snacks will be provided. Feel free to bring additional snacks and non-alcoholic drinks to share. \nTHIS MONTH’S FILM \nMoonlight (2016): This coming-of-age masterpiece wonBest Picture at the Oscars in 2017 and has since gone on to become a queer cinema classic. \nRun Time: 1h 51m
URL:https://tccidaho.org/calendar/underground-cinema-night-moonlight/
LOCATION:The Community Center – TCC\, 1088 N Orchard St\, Boise\, ID\, United States
CATEGORIES:TCC Events
ATTACH;FMTTYPE=image/jpeg:https://tccidaho.org/wp-content/uploads/2026/02/4.jpg
GEO:43.614246;-116.243376
X-APPLE-STRUCTURED-LOCATION;VALUE=URI;X-ADDRESS=The Community Center – TCC 1088 N Orchard St Boise ID United States;X-APPLE-RADIUS=500;X-TITLE=1088 N Orchard St:geo:-116.243376,43.614246
END:VEVENT
END:VCALENDAR