BEGIN:VCALENDAR
VERSION:2.0
PRODID:-//The Community Center - ECPv6.15.20//NONSGML v1.0//EN
CALSCALE:GREGORIAN
METHOD:PUBLISH
X-ORIGINAL-URL:https://tccidaho.org
X-WR-CALDESC:Events for The Community Center
REFRESH-INTERVAL;VALUE=DURATION:PT1H
X-Robots-Tag:noindex
X-PUBLISHED-TTL:PT1H
BEGIN:VTIMEZONE
TZID:America/Boise
BEGIN:DAYLIGHT
TZOFFSETFROM:-0700
TZOFFSETTO:-0600
TZNAME:MDT
DTSTART:20250309T090000
END:DAYLIGHT
BEGIN:STANDARD
TZOFFSETFROM:-0600
TZOFFSETTO:-0700
TZNAME:MST
DTSTART:20251102T080000
END:STANDARD
BEGIN:DAYLIGHT
TZOFFSETFROM:-0700
TZOFFSETTO:-0600
TZNAME:MDT
DTSTART:20260308T090000
END:DAYLIGHT
BEGIN:STANDARD
TZOFFSETFROM:-0600
TZOFFSETTO:-0700
TZNAME:MST
DTSTART:20261101T080000
END:STANDARD
BEGIN:DAYLIGHT
TZOFFSETFROM:-0700
TZOFFSETTO:-0600
TZNAME:MDT
DTSTART:20270314T090000
END:DAYLIGHT
BEGIN:STANDARD
TZOFFSETFROM:-0600
TZOFFSETTO:-0700
TZNAME:MST
DTSTART:20271107T080000
END:STANDARD
END:VTIMEZONE
BEGIN:VEVENT
DTSTART;TZID=America/Boise:20260610T180000
DTEND;TZID=America/Boise:20260610T190000
DTSTAMP:20260425T042158
CREATED:20260412T140917Z
LAST-MODIFIED:20260412T140917Z
UID:10002253-1781114400-1781118000@tccidaho.org
SUMMARY:A Space for Aces
DESCRIPTION:A Space for Aces is a safe place for individuals who are or might be on the ACE/ARO spectrums to build community\, socialize\, learn\, and support one another. No judgment. All confidential. Friends and allies welcome. Light snacks and drinks will be provided. \nLight snacks will be provided. Feel free to bring additional snacks and non-alcoholic drinks to share. \nContact the group coordinator\, Rachel\, with any questions at SpaceForAces@gmail.com. \nCost: Free \nWhen:  2nd Wednesdays\, 6pm-7pm
URL:https://tccidaho.org/calendar/a-space-for-aces-22/
LOCATION:The Community Center – TCC\, 1088 N Orchard St\, Boise\, ID\, United States
CATEGORIES:TCC Events
GEO:43.614246;-116.243376
X-APPLE-STRUCTURED-LOCATION;VALUE=URI;X-ADDRESS=The Community Center – TCC 1088 N Orchard St Boise ID United States;X-APPLE-RADIUS=500;X-TITLE=1088 N Orchard St:geo:-116.243376,43.614246
END:VEVENT
END:VCALENDAR