BEGIN:VCALENDAR
VERSION:2.0
PRODID:-//The Community Center - ECPv6.15.20//NONSGML v1.0//EN
CALSCALE:GREGORIAN
METHOD:PUBLISH
X-ORIGINAL-URL:https://tccidaho.org
X-WR-CALDESC:Events for The Community Center
REFRESH-INTERVAL;VALUE=DURATION:PT1H
X-Robots-Tag:noindex
X-PUBLISHED-TTL:PT1H
BEGIN:VTIMEZONE
TZID:America/Boise
BEGIN:DAYLIGHT
TZOFFSETFROM:-0700
TZOFFSETTO:-0600
TZNAME:MDT
DTSTART:20250309T090000
END:DAYLIGHT
BEGIN:STANDARD
TZOFFSETFROM:-0600
TZOFFSETTO:-0700
TZNAME:MST
DTSTART:20251102T080000
END:STANDARD
BEGIN:DAYLIGHT
TZOFFSETFROM:-0700
TZOFFSETTO:-0600
TZNAME:MDT
DTSTART:20260308T090000
END:DAYLIGHT
BEGIN:STANDARD
TZOFFSETFROM:-0600
TZOFFSETTO:-0700
TZNAME:MST
DTSTART:20261101T080000
END:STANDARD
BEGIN:DAYLIGHT
TZOFFSETFROM:-0700
TZOFFSETTO:-0600
TZNAME:MDT
DTSTART:20270314T090000
END:DAYLIGHT
BEGIN:STANDARD
TZOFFSETFROM:-0600
TZOFFSETTO:-0700
TZNAME:MST
DTSTART:20271107T080000
END:STANDARD
END:VTIMEZONE
BEGIN:VEVENT
DTSTART;TZID=America/Boise:20260622T180000
DTEND;TZID=America/Boise:20260622T193000
DTSTAMP:20260425T094907
CREATED:20260424T000930Z
LAST-MODIFIED:20260424T000930Z
UID:10002274-1782151200-1782156600@tccidaho.org
SUMMARY:PFLAG Support Group
DESCRIPTION:Join us for support & allyship at our monthly support group meeting. This is a safe space for questions\, vulnerability\, and community. We will meet you where you are; whether you’re a longtime ally or still have everything to learn\, this space is for you. All LGBTQIA+ individuals\, families\, parents\, caregivers\, friends\, and supportive community members are invited to join our monthly get-togethers. \nCost: Free \nWhen: 4th Monday of each month\, 6pm-7:30pm
URL:https://tccidaho.org/calendar/pflag-support-group-8/
LOCATION:The Community Center (TCC)\, 1088 N Orchard St\, Boise\, ID\, United States
CATEGORIES:TCC Events
GEO:43.614246;-116.243376
X-APPLE-STRUCTURED-LOCATION;VALUE=URI;X-ADDRESS=The Community Center (TCC) 1088 N Orchard St Boise ID United States;X-APPLE-RADIUS=500;X-TITLE=1088 N Orchard St:geo:-116.243376,43.614246
END:VEVENT
END:VCALENDAR