BEGIN:VCALENDAR
VERSION:2.0
PRODID:-//The Community Center - ECPv6.15.20//NONSGML v1.0//EN
CALSCALE:GREGORIAN
METHOD:PUBLISH
X-WR-CALNAME:The Community Center
X-ORIGINAL-URL:https://tccidaho.org
X-WR-CALDESC:Events for The Community Center
REFRESH-INTERVAL;VALUE=DURATION:PT1H
X-Robots-Tag:noindex
X-PUBLISHED-TTL:PT1H
BEGIN:VTIMEZONE
TZID:America/Boise
BEGIN:DAYLIGHT
TZOFFSETFROM:-0700
TZOFFSETTO:-0600
TZNAME:MDT
DTSTART:20250309T090000
END:DAYLIGHT
BEGIN:STANDARD
TZOFFSETFROM:-0600
TZOFFSETTO:-0700
TZNAME:MST
DTSTART:20251102T080000
END:STANDARD
BEGIN:DAYLIGHT
TZOFFSETFROM:-0700
TZOFFSETTO:-0600
TZNAME:MDT
DTSTART:20260308T090000
END:DAYLIGHT
BEGIN:STANDARD
TZOFFSETFROM:-0600
TZOFFSETTO:-0700
TZNAME:MST
DTSTART:20261101T080000
END:STANDARD
BEGIN:DAYLIGHT
TZOFFSETFROM:-0700
TZOFFSETTO:-0600
TZNAME:MDT
DTSTART:20270314T090000
END:DAYLIGHT
BEGIN:STANDARD
TZOFFSETFROM:-0600
TZOFFSETTO:-0700
TZNAME:MST
DTSTART:20271107T080000
END:STANDARD
END:VTIMEZONE
BEGIN:VEVENT
DTSTART;TZID=America/Boise:20260621T124500
DTEND;TZID=America/Boise:20260621T140000
DTSTAMP:20260425T092245
CREATED:20260422T001028Z
LAST-MODIFIED:20260422T001028Z
UID:10002271-1782045900-1782050400@tccidaho.org
SUMMARY:Liberating Spirit MCC Worship Service
DESCRIPTION:Liberating Spirit Metropolitan Community Church (LSMCC) invites you to join us as you are\, without concern for any of the reasons that have kept many from church. \nLiving Christ’s all-inclusive love. LSMCC is a church where everyone has a voice and self-expression. We welcome everyone\, no exceptions\, embracing the richness of our differences. We live fully\, love wastefully\, and strive to be all we were created to be.** Learn more about LSMCC at https://sites.google.com/site/liberatingspiritmcc/ \nContact LSMCC at liberatingspiritmcc@gmail.com or at 208-401-8442. \n*we share a building with The Community Center\, a space for the LGBTQIA+ community.**inspired by Bishop John Shelby Spong
URL:https://tccidaho.org/calendar/liberating-spirit-mcc-worship-service-91/
LOCATION:Liberating Spirit Metropolitan Community Church\, 1088 N Orchard St\, Boise\, ID\, United States
CATEGORIES:TCC Events
GEO:43.614246;-116.243376
X-APPLE-STRUCTURED-LOCATION;VALUE=URI;X-ADDRESS=Liberating Spirit Metropolitan Community Church 1088 N Orchard St Boise ID United States;X-APPLE-RADIUS=500;X-TITLE=1088 N Orchard St:geo:-116.243376,43.614246
END:VEVENT
BEGIN:VEVENT
DTSTART;TZID=America/Boise:20260621T160000
DTEND;TZID=America/Boise:20260621T180000
DTSTAMP:20260425T092245
CREATED:20260422T001028Z
LAST-MODIFIED:20260422T001028Z
UID:10002272-1782057600-1782064800@tccidaho.org
SUMMARY:Youth Alliance for Diversity (YAD)
DESCRIPTION:Only open to LGBTQIA+ folks ages 14-20. \nYouth Alliance for Diversity (YAD) provides a safe environment that fosters education\, socialization\, and a sense of unity within the community. \nYAD strives to provide youth with the opportunity to meet and receive the support of other youth who are gay\, lesbian\, bisexual\, transgender\, questioning\, or straight supportive\, and to provide the opportunity to interact with positive adult role models in a safe\, non-threatening environment. \nCheck out their Facebook page for programming: https://www.facebook.com/boiselgbtyouth \nCheck out their webpage to learn more: https://tccidaho.org/yad/ \nWhen: Every Sunday\, 4pm-6pm
URL:https://tccidaho.org/calendar/youth-alliance-for-diversity-yad-84/
LOCATION:The Community Center – TCC\, 1088 N Orchard St\, Boise\, ID\, United States
CATEGORIES:TCC Events
GEO:43.614246;-116.243376
X-APPLE-STRUCTURED-LOCATION;VALUE=URI;X-ADDRESS=The Community Center – TCC 1088 N Orchard St Boise ID United States;X-APPLE-RADIUS=500;X-TITLE=1088 N Orchard St:geo:-116.243376,43.614246
END:VEVENT
BEGIN:VEVENT
DTSTART;TZID=America/Boise:20260622T180000
DTEND;TZID=America/Boise:20260622T193000
DTSTAMP:20260425T092245
CREATED:20260424T000930Z
LAST-MODIFIED:20260424T000930Z
UID:10002274-1782151200-1782156600@tccidaho.org
SUMMARY:PFLAG Support Group
DESCRIPTION:Join us for support & allyship at our monthly support group meeting. This is a safe space for questions\, vulnerability\, and community. We will meet you where you are; whether you’re a longtime ally or still have everything to learn\, this space is for you. All LGBTQIA+ individuals\, families\, parents\, caregivers\, friends\, and supportive community members are invited to join our monthly get-togethers. \nCost: Free \nWhen: 4th Monday of each month\, 6pm-7:30pm
URL:https://tccidaho.org/calendar/pflag-support-group-8/
LOCATION:The Community Center (TCC)\, 1088 N Orchard St\, Boise\, ID\, United States
CATEGORIES:TCC Events
GEO:43.614246;-116.243376
X-APPLE-STRUCTURED-LOCATION;VALUE=URI;X-ADDRESS=The Community Center (TCC) 1088 N Orchard St Boise ID United States;X-APPLE-RADIUS=500;X-TITLE=1088 N Orchard St:geo:-116.243376,43.614246
END:VEVENT
END:VCALENDAR