BEGIN:VCALENDAR
VERSION:2.0
PRODID:-//The Community Center - ECPv6.15.20//NONSGML v1.0//EN
CALSCALE:GREGORIAN
METHOD:PUBLISH
X-WR-CALNAME:The Community Center
X-ORIGINAL-URL:https://tccidaho.org
X-WR-CALDESC:Events for The Community Center
REFRESH-INTERVAL;VALUE=DURATION:PT1H
X-Robots-Tag:noindex
X-PUBLISHED-TTL:PT1H
BEGIN:VTIMEZONE
TZID:America/Boise
BEGIN:DAYLIGHT
TZOFFSETFROM:-0700
TZOFFSETTO:-0600
TZNAME:MDT
DTSTART:20250309T090000
END:DAYLIGHT
BEGIN:STANDARD
TZOFFSETFROM:-0600
TZOFFSETTO:-0700
TZNAME:MST
DTSTART:20251102T080000
END:STANDARD
BEGIN:DAYLIGHT
TZOFFSETFROM:-0700
TZOFFSETTO:-0600
TZNAME:MDT
DTSTART:20260308T090000
END:DAYLIGHT
BEGIN:STANDARD
TZOFFSETFROM:-0600
TZOFFSETTO:-0700
TZNAME:MST
DTSTART:20261101T080000
END:STANDARD
BEGIN:DAYLIGHT
TZOFFSETFROM:-0700
TZOFFSETTO:-0600
TZNAME:MDT
DTSTART:20270314T090000
END:DAYLIGHT
BEGIN:STANDARD
TZOFFSETFROM:-0600
TZOFFSETTO:-0700
TZNAME:MST
DTSTART:20271107T080000
END:STANDARD
END:VTIMEZONE
BEGIN:VEVENT
DTSTART;TZID=America/Boise:20260309T183000
DTEND;TZID=America/Boise:20260309T200000
DTSTAMP:20260425T101954
CREATED:20260109T193928Z
LAST-MODIFIED:20260220T022602Z
UID:10002075-1773081000-1773086400@tccidaho.org
SUMMARY:LGBTQIA+ Book Club: This Is How You Lose the Time War
DESCRIPTION:Join us for our monthly LGBTQIA+ book club. Please feel free to come even if you haven’t had a chance to finish the book. Group is ideal for ages 16+. Light snacks will be provided. \nVirtual this month! Join us at:  https://meet.google.com/kmq-jhee-stv \nWhen:  2nd Mondays\, 6:30pm-8pm\, alternating virtual and in-person. \nVIRTUAL: Jan\, March\, May\, July\, Sept\, Nov\nIN-PERSON: Feb\, April\, June\, August\, Oct\, Dec \nDonations are a huge help! Learn more about what we need at tccidaho.org/donate \nTHIS MONTH’S BOOK: \nThis Is How You Lose the Time War by Amal El-Mohtar and Max Gladstone \nAmong the ashes of a dying world\, an agent of the Commandment finds a letter. It reads: Burn before reading. \nThus begins an unlikely correspondence between two rival agents hellbent on securing the best possible future for their warring factions. Now\, what began as a taunt\, a battlefield boast\, becomes something more. Something epic. Something romantic. Something that could change the past and the future. \nExcept the discovery of their bond would mean the death of each of them. There’s still a war going on\, after all. And someone has to win. That’s how war works\, right? \nCowritten by two beloved and award-winning sci-fi writers\, This Is How You Lose the Time War is an epic love story spanning time and space.
URL:https://tccidaho.org/calendar/lgbtqia-book-club-this-is-how-you-lose-the-time-war/
LOCATION:https://meet.google.com/kmq-jhee-stv
CATEGORIES:TCC Events,TCC Virtual Events
ATTACH;FMTTYPE=image/jpeg:https://tccidaho.org/wp-content/uploads/2026/01/03-March.jpg
END:VEVENT
END:VCALENDAR